BEGIN:VCALENDAR
VERSION:2.0
PRODID:-//Helstorf.de - ECPv6.15.20//NONSGML v1.0//EN
CALSCALE:GREGORIAN
METHOD:PUBLISH
X-WR-CALNAME:Helstorf.de
X-ORIGINAL-URL:https://helstorf.de
X-WR-CALDESC:Veranstaltungen für Helstorf.de
REFRESH-INTERVAL;VALUE=DURATION:PT1H
X-Robots-Tag:noindex
X-PUBLISHED-TTL:PT1H
BEGIN:VTIMEZONE
TZID:UTC
BEGIN:STANDARD
TZOFFSETFROM:+0000
TZOFFSETTO:+0000
TZNAME:UTC
DTSTART:20250101T000000
END:STANDARD
END:VTIMEZONE
BEGIN:VEVENT
DTSTART;TZID=UTC:20260303T183000
DTEND;TZID=UTC:20260303T213000
DTSTAMP:20260421T165005
CREATED:20260320T200450Z
LAST-MODIFIED:20260320T200450Z
UID:1455-1772562600-1772573400@helstorf.de
SUMMARY:Doppelkopf im Schützenhaus
DESCRIPTION:Spieleabend Doppelkopf im Schützenhaus. \nJeden Dienstag im Monat immer um 19:30 Uhr \n03.03.2026 \n07.04.2026 \n05.05.2026 \n02.06.2026 \nDoktorweg 31\, 31535 Neustadt \nMit Anmeldung unter 01731870790 bei Katharina Meyer oder unter 01732308139 Andreas Pagel.
URL:https://helstorf.de/event/doppelkopf-im-schuetzenhaus/
CATEGORIES:Bildung,Dorfaktion,Gemeinwohl,Jugend,Veranstaltung
ORGANIZER;CN="B%C3%BCrgersch%C3%BCtzenverein Helstorf e. V.":MAILTO:Info@bürgerschützenverein.de
END:VEVENT
END:VCALENDAR