BEGIN:VCALENDAR
VERSION:2.0
PRODID:-//Helstorf.de - ECPv6.15.20//NONSGML v1.0//EN
CALSCALE:GREGORIAN
METHOD:PUBLISH
X-ORIGINAL-URL:https://helstorf.de
X-WR-CALDESC:Veranstaltungen für Helstorf.de
REFRESH-INTERVAL;VALUE=DURATION:PT1H
X-Robots-Tag:noindex
X-PUBLISHED-TTL:PT1H
BEGIN:VTIMEZONE
TZID:UTC
BEGIN:STANDARD
TZOFFSETFROM:+0000
TZOFFSETTO:+0000
TZNAME:UTC
DTSTART:20250101T000000
END:STANDARD
END:VTIMEZONE
BEGIN:VEVENT
DTSTART;TZID=UTC:20260203T080000
DTEND;TZID=UTC:20260203T120000
DTSTAMP:20260423T140131
CREATED:20251204T211149Z
LAST-MODIFIED:20251204T212046Z
UID:672-1770105600-1770120000@helstorf.de
SUMMARY:Gemeindefrühstück
DESCRIPTION:Jeden ersten Dienstag im Monat treffen wir uns von 9-11 Uhr zum gemütlichen Frühstücken. Nach dem Essen runden gemeinsame Lieder\, Geschichten und Anekdoten den Vormittag ab. Auf Ihr Kommen freut sich Ruth Meier mit ihren fleißigen Helferinnen. Tel.: 7133
URL:https://helstorf.de/event/gemeindefruehstueck-2/
END:VEVENT
END:VCALENDAR