BEGIN:VCALENDAR
VERSION:2.0
PRODID:-//Helstorf.de - ECPv6.15.20//NONSGML v1.0//EN
CALSCALE:GREGORIAN
METHOD:PUBLISH
X-WR-CALNAME:Helstorf.de
X-ORIGINAL-URL:https://helstorf.de
X-WR-CALDESC:Veranstaltungen für Helstorf.de
REFRESH-INTERVAL;VALUE=DURATION:PT1H
X-Robots-Tag:noindex
X-PUBLISHED-TTL:PT1H
BEGIN:VTIMEZONE
TZID:UTC
BEGIN:STANDARD
TZOFFSETFROM:+0000
TZOFFSETTO:+0000
TZNAME:UTC
DTSTART:20250101T000000
END:STANDARD
END:VTIMEZONE
BEGIN:VEVENT
DTSTART;TZID=UTC:20260509T140000
DTEND;TZID=UTC:20260509T160000
DTSTAMP:20260423T083237
CREATED:20260320T203700Z
LAST-MODIFIED:20260320T203700Z
UID:1468-1778335200-1778342400@helstorf.de
SUMMARY:Dorfbücherei
DESCRIPTION:Am 2. Samstag im Monat öffnet die Dorfbücherei mit ehrenamtlichen Helfern vom DorfLeben e. V. von 14 – 16 Uhr.
URL:https://helstorf.de/event/dorfbuecherei-3/
LOCATION:Dorfbücherei\, Heidbraake 2\, 31535 Neustadt-Helstorf\, Niedersachsen\, 31535
CATEGORIES:Bildung,Gemeinwohl,Jugend,Kinder
ORGANIZER;CN="DorfLeben e. V.":MAILTO:info@dorflebenev.de
END:VEVENT
END:VCALENDAR