BEGIN:VCALENDAR
VERSION:2.0
PRODID:-//Helstorf.de - ECPv6.15.20//NONSGML v1.0//EN
CALSCALE:GREGORIAN
METHOD:PUBLISH
X-WR-CALNAME:Helstorf.de
X-ORIGINAL-URL:https://helstorf.de
X-WR-CALDESC:Veranstaltungen für Helstorf.de
REFRESH-INTERVAL;VALUE=DURATION:PT1H
X-Robots-Tag:noindex
X-PUBLISHED-TTL:PT1H
BEGIN:VTIMEZONE
TZID:UTC
BEGIN:STANDARD
TZOFFSETFROM:+0000
TZOFFSETTO:+0000
TZNAME:UTC
DTSTART:20250101T000000
END:STANDARD
END:VTIMEZONE
BEGIN:VEVENT
DTSTART;TZID=UTC:20260314T140000
DTEND;TZID=UTC:20260314T160000
DTSTAMP:20260421T165701
CREATED:20260320T202438Z
LAST-MODIFIED:20260320T202438Z
UID:1464-1773496800-1773504000@helstorf.de
SUMMARY:Dorfbücherei
DESCRIPTION:Am 2. Samstag im Monat öffnet die Dorfbücherei mit ehrenamtlichen Helfern vom DorfLeben e. V. von 14 – 16 Uhr.
URL:https://helstorf.de/event/dorfbuecherei/
LOCATION:Niedersachsen
CATEGORIES:Bildung,Dorfaktion,Gemeinwohl,Jugend,Kinder
ORGANIZER;CN="DorfLeben e. V.":MAILTO:info@dorflebenev.de
END:VEVENT
END:VCALENDAR