BEGIN:VCALENDAR
VERSION:2.0
PRODID:-//Helstorf.de - ECPv6.15.20//NONSGML v1.0//EN
CALSCALE:GREGORIAN
METHOD:PUBLISH
X-ORIGINAL-URL:https://helstorf.de
X-WR-CALDESC:Veranstaltungen für Helstorf.de
REFRESH-INTERVAL;VALUE=DURATION:PT1H
X-Robots-Tag:noindex
X-PUBLISHED-TTL:PT1H
BEGIN:VTIMEZONE
TZID:UTC
BEGIN:STANDARD
TZOFFSETFROM:+0000
TZOFFSETTO:+0000
TZNAME:UTC
DTSTART:20250101T000000
END:STANDARD
END:VTIMEZONE
BEGIN:VEVENT
DTSTART;TZID=UTC:20260425T190000
DTEND;TZID=UTC:20260425T213000
DTSTAMP:20260421T115639
CREATED:20260413T083958Z
LAST-MODIFIED:20260413T084316Z
UID:1472-1777143600-1777152600@helstorf.de
SUMMARY:DorfJugend trifft sich
DESCRIPTION:Aktuelle Infos und Termine werden über die WhatsApp Gruppe vereinbart. \nAnsprechpartnerin: Ira Odlozinski unter 0163-7718713
URL:https://helstorf.de/event/dorfjugend-trifft-sich/
LOCATION:Kreativwerkstatt Helstorf\, Heidbraake 2\, Helstorf\, 31535
CATEGORIES:Gemeinwohl,Jugend,Kinder,Veranstaltung
ORGANIZER;CN="DorfLeben e. V.":MAILTO:info@dorflebenev.de
END:VEVENT
BEGIN:VEVENT
DTSTART;TZID=UTC:20260426T100000
DTEND;TZID=UTC:20260426T120000
DTSTAMP:20260421T115639
CREATED:20260108T205405Z
LAST-MODIFIED:20260108T205405Z
UID:1182-1777197600-1777204800@helstorf.de
SUMMARY:Konfirmation
DESCRIPTION:
URL:https://helstorf.de/event/konfirmation/
LOCATION:Gemeindehaus Helstorf\, Brückenstraße 13\, Neustadt\, 31535\, Germany
CATEGORIES:Bildung,Dorfaktion,Kinder,Kirche,Kultur
END:VEVENT
END:VCALENDAR