BEGIN:VCALENDAR
VERSION:2.0
PRODID:-//Helstorf.de - ECPv6.15.20//NONSGML v1.0//EN
CALSCALE:GREGORIAN
METHOD:PUBLISH
X-ORIGINAL-URL:https://helstorf.de
X-WR-CALDESC:Veranstaltungen für Helstorf.de
REFRESH-INTERVAL;VALUE=DURATION:PT1H
X-Robots-Tag:noindex
X-PUBLISHED-TTL:PT1H
BEGIN:VTIMEZONE
TZID:UTC
BEGIN:STANDARD
TZOFFSETFROM:+0000
TZOFFSETTO:+0000
TZNAME:UTC
DTSTART:20250101T000000
END:STANDARD
END:VTIMEZONE
BEGIN:VEVENT
DTSTART;TZID=UTC:20260501T110000
DTEND;TZID=UTC:20260501T150000
DTSTAMP:20260421T154037
CREATED:20260108T210404Z
LAST-MODIFIED:20260108T210404Z
UID:1188-1777633200-1777647600@helstorf.de
SUMMARY:1. Mai - Feier (Maibaum aufstellen)
DESCRIPTION:
URL:https://helstorf.de/event/1-mai-feier-maibaum-aufstellen/
LOCATION:SVG Helstorf e. V.\, Walsroder Straße 19\, Neustadt-Helstorf\, 31535
CATEGORIES:Dorfaktion,Kinder,Sport
END:VEVENT
BEGIN:VEVENT
DTSTART;TZID=UTC:20260502T143000
DTEND;TZID=UTC:20260502T173000
DTSTAMP:20260421T154038
CREATED:20260108T210629Z
LAST-MODIFIED:20260108T210629Z
UID:1192-1777732200-1777743000@helstorf.de
SUMMARY:Adler-Schießen
DESCRIPTION:
URL:https://helstorf.de/event/adler-schiessen/
CATEGORIES:Sport
END:VEVENT
BEGIN:VEVENT
DTSTART;TZID=UTC:20260505T193000
DTEND;TZID=UTC:20260505T213000
DTSTAMP:20260421T154038
CREATED:20260320T201957Z
LAST-MODIFIED:20260320T201957Z
UID:1460-1778009400-1778016600@helstorf.de
SUMMARY:Spieleabend im Schützenhaus
DESCRIPTION:Spieleabend Doppelkopf im Schützenhaus. \nJeden Dienstag im Monat immer um 19:30 Uhr \n03.03.2026 \n07.04.2026 \n05.05.2026 \n02.06.2026 \nDoktorweg 31\, 31535 Neustadt \nMit Anmeldung unter 01731870790 bei Katharina Meyer oder unter 01732308139 Andreas Pagel.
URL:https://helstorf.de/event/spieleabend-im-schuetzenhaus-2/
CATEGORIES:Bildung,Gemeinwohl,Jugend,Veranstaltung
END:VEVENT
BEGIN:VEVENT
DTSTART;TZID=UTC:20260509T140000
DTEND;TZID=UTC:20260509T160000
DTSTAMP:20260421T154038
CREATED:20260320T203700Z
LAST-MODIFIED:20260320T203700Z
UID:1468-1778335200-1778342400@helstorf.de
SUMMARY:Dorfbücherei
DESCRIPTION:Am 2. Samstag im Monat öffnet die Dorfbücherei mit ehrenamtlichen Helfern vom DorfLeben e. V. von 14 – 16 Uhr.
URL:https://helstorf.de/event/dorfbuecherei-3/
LOCATION:Dorfbücherei\, Heidbraake 2\, 31535 Neustadt-Helstorf\, Niedersachsen\, 31535
CATEGORIES:Bildung,Gemeinwohl,Jugend,Kinder
ORGANIZER;CN="DorfLeben e. V.":MAILTO:info@dorflebenev.de
END:VEVENT
BEGIN:VEVENT
DTSTART;TZID=UTC:20260514T100000
DTEND;TZID=UTC:20260514T110000
DTSTAMP:20260421T154038
CREATED:20260109T192450Z
LAST-MODIFIED:20260109T192450Z
UID:1195-1778752800-1778756400@helstorf.de
SUMMARY:Gottesdienst auf der Reiterheide
DESCRIPTION:
URL:https://helstorf.de/event/gottesdienst-auf-der-reiterheide/
CATEGORIES:Kirche,Kultur
END:VEVENT
BEGIN:VEVENT
DTSTART;TZID=UTC:20260514T110000
DTEND;TZID=UTC:20260514T170000
DTSTAMP:20260421T154038
CREATED:20260109T193129Z
LAST-MODIFIED:20260109T193129Z
UID:1197-1778756400-1778778000@helstorf.de
SUMMARY:Radtour der Vereine
DESCRIPTION:
URL:https://helstorf.de/event/radtour-der-vereine/
CATEGORIES:Dorfaktion,Sport
END:VEVENT
BEGIN:VEVENT
DTSTART;TZID=UTC:20260517T110000
DTEND;TZID=UTC:20260517T170000
DTSTAMP:20260421T154038
CREATED:20260109T193400Z
LAST-MODIFIED:20260109T193400Z
UID:1199-1779015600-1779037200@helstorf.de
SUMMARY:Flohmarkt mit Schmiedetag
DESCRIPTION:
URL:https://helstorf.de/event/flohmarkt-mit-schmiedetag/
LOCATION:Heimatverein Helstorf\, Walsroder Str. 16\, Neustadt-Helstorf\, 31535
CATEGORIES:Bildung,Dorfaktion,Kultur
END:VEVENT
BEGIN:VEVENT
DTSTART;TZID=UTC:20260522T170000
DTEND;TZID=UTC:20260522T190000
DTSTAMP:20260421T154038
CREATED:20260109T194223Z
LAST-MODIFIED:20260109T194223Z
UID:1201-1779469200-1779476400@helstorf.de
SUMMARY:Kinder- und Jugendkönig BSV
DESCRIPTION:
URL:https://helstorf.de/event/kinder-und-jugendkoenig-bsv/
LOCATION:BSV Helstorf\, Doktorweg\, Neustadt-Helstorf\, 31535
CATEGORIES:Kinder
ORGANIZER;CN="B%C3%BCrgersch%C3%BCtzenverein Helstorf e. V.":MAILTO:Info@bürgerschützenverein.de
END:VEVENT
BEGIN:VEVENT
DTSTART;TZID=UTC:20260529T140000
DTEND;TZID=UTC:20260529T170000
DTSTAMP:20260421T154038
CREATED:20260109T194633Z
LAST-MODIFIED:20260109T194633Z
UID:1205-1780063200-1780074000@helstorf.de
SUMMARY:König- und Pokalschießen BSV
DESCRIPTION:
URL:https://helstorf.de/event/koenig-und-pokalschiessen-bsv/
CATEGORIES:Sport
END:VEVENT
BEGIN:VEVENT
DTSTART;TZID=UTC:20260531T140000
DTEND;TZID=UTC:20260531T170000
DTSTAMP:20260421T154038
CREATED:20260109T194736Z
LAST-MODIFIED:20260109T194736Z
UID:1207-1780236000-1780246800@helstorf.de
SUMMARY:König- und Pokalschießen Runde 2
DESCRIPTION:
URL:https://helstorf.de/event/koenig-und-pokalschiessen-runde-2/
CATEGORIES:Sport
END:VEVENT
END:VCALENDAR