BEGIN:VCALENDAR
VERSION:2.0
PRODID:-//Helstorf.de - ECPv6.15.20//NONSGML v1.0//EN
CALSCALE:GREGORIAN
METHOD:PUBLISH
X-WR-CALNAME:Helstorf.de
X-ORIGINAL-URL:https://helstorf.de
X-WR-CALDESC:Veranstaltungen für Helstorf.de
REFRESH-INTERVAL;VALUE=DURATION:PT1H
X-Robots-Tag:noindex
X-PUBLISHED-TTL:PT1H
BEGIN:VTIMEZONE
TZID:UTC
BEGIN:STANDARD
TZOFFSETFROM:+0000
TZOFFSETTO:+0000
TZNAME:UTC
DTSTART:20250101T000000
END:STANDARD
END:VTIMEZONE
BEGIN:VTIMEZONE
TZID:Europe/Berlin
BEGIN:DAYLIGHT
TZOFFSETFROM:+0100
TZOFFSETTO:+0200
TZNAME:CEST
DTSTART:20250330T010000
END:DAYLIGHT
BEGIN:STANDARD
TZOFFSETFROM:+0200
TZOFFSETTO:+0100
TZNAME:CET
DTSTART:20251026T010000
END:STANDARD
BEGIN:DAYLIGHT
TZOFFSETFROM:+0100
TZOFFSETTO:+0200
TZNAME:CEST
DTSTART:20260329T010000
END:DAYLIGHT
BEGIN:STANDARD
TZOFFSETFROM:+0200
TZOFFSETTO:+0100
TZNAME:CET
DTSTART:20261025T010000
END:STANDARD
BEGIN:DAYLIGHT
TZOFFSETFROM:+0100
TZOFFSETTO:+0200
TZNAME:CEST
DTSTART:20270328T010000
END:DAYLIGHT
BEGIN:STANDARD
TZOFFSETFROM:+0200
TZOFFSETTO:+0100
TZNAME:CET
DTSTART:20271031T010000
END:STANDARD
END:VTIMEZONE
BEGIN:VEVENT
DTSTART;TZID=UTC:20260425T190000
DTEND;TZID=UTC:20260425T213000
DTSTAMP:20260421T131120
CREATED:20260413T083958Z
LAST-MODIFIED:20260413T084316Z
UID:1472-1777143600-1777152600@helstorf.de
SUMMARY:DorfJugend trifft sich
DESCRIPTION:Aktuelle Infos und Termine werden über die WhatsApp Gruppe vereinbart. \nAnsprechpartnerin: Ira Odlozinski unter 0163-7718713
URL:https://helstorf.de/event/dorfjugend-trifft-sich/
LOCATION:Kreativwerkstatt Helstorf\, Heidbraake 2\, Helstorf\, 31535
CATEGORIES:Gemeinwohl,Jugend,Kinder,Veranstaltung
ORGANIZER;CN="DorfLeben e. V.":MAILTO:info@dorflebenev.de
END:VEVENT
BEGIN:VEVENT
DTSTART;TZID=UTC:20260426T100000
DTEND;TZID=UTC:20260426T120000
DTSTAMP:20260421T131120
CREATED:20260108T205405Z
LAST-MODIFIED:20260108T205405Z
UID:1182-1777197600-1777204800@helstorf.de
SUMMARY:Konfirmation
DESCRIPTION:
URL:https://helstorf.de/event/konfirmation/
LOCATION:Gemeindehaus Helstorf\, Brückenstraße 13\, Neustadt\, 31535\, Germany
CATEGORIES:Bildung,Dorfaktion,Kinder,Kirche,Kultur
END:VEVENT
BEGIN:VEVENT
DTSTART;TZID=UTC:20260501T110000
DTEND;TZID=UTC:20260501T150000
DTSTAMP:20260421T131120
CREATED:20260108T210404Z
LAST-MODIFIED:20260108T210404Z
UID:1188-1777633200-1777647600@helstorf.de
SUMMARY:1. Mai - Feier (Maibaum aufstellen)
DESCRIPTION:
URL:https://helstorf.de/event/1-mai-feier-maibaum-aufstellen/
LOCATION:SVG Helstorf e. V.\, Walsroder Straße 19\, Neustadt-Helstorf\, 31535
CATEGORIES:Dorfaktion,Kinder,Sport
END:VEVENT
BEGIN:VEVENT
DTSTART;TZID=UTC:20260502T143000
DTEND;TZID=UTC:20260502T173000
DTSTAMP:20260421T131120
CREATED:20260108T210629Z
LAST-MODIFIED:20260108T210629Z
UID:1192-1777732200-1777743000@helstorf.de
SUMMARY:Adler-Schießen
DESCRIPTION:
URL:https://helstorf.de/event/adler-schiessen/
CATEGORIES:Sport
END:VEVENT
BEGIN:VEVENT
DTSTART;TZID=UTC:20260505T193000
DTEND;TZID=UTC:20260505T213000
DTSTAMP:20260421T131120
CREATED:20260320T201957Z
LAST-MODIFIED:20260320T201957Z
UID:1460-1778009400-1778016600@helstorf.de
SUMMARY:Spieleabend im Schützenhaus
DESCRIPTION:Spieleabend Doppelkopf im Schützenhaus. \nJeden Dienstag im Monat immer um 19:30 Uhr \n03.03.2026 \n07.04.2026 \n05.05.2026 \n02.06.2026 \nDoktorweg 31\, 31535 Neustadt \nMit Anmeldung unter 01731870790 bei Katharina Meyer oder unter 01732308139 Andreas Pagel.
URL:https://helstorf.de/event/spieleabend-im-schuetzenhaus-2/
CATEGORIES:Bildung,Gemeinwohl,Jugend,Veranstaltung
END:VEVENT
BEGIN:VEVENT
DTSTART;TZID=UTC:20260509T140000
DTEND;TZID=UTC:20260509T160000
DTSTAMP:20260421T131120
CREATED:20260320T203700Z
LAST-MODIFIED:20260320T203700Z
UID:1468-1778335200-1778342400@helstorf.de
SUMMARY:Dorfbücherei
DESCRIPTION:Am 2. Samstag im Monat öffnet die Dorfbücherei mit ehrenamtlichen Helfern vom DorfLeben e. V. von 14 – 16 Uhr.
URL:https://helstorf.de/event/dorfbuecherei-3/
LOCATION:Dorfbücherei\, Heidbraake 2\, 31535 Neustadt-Helstorf\, Niedersachsen\, 31535
CATEGORIES:Bildung,Gemeinwohl,Jugend,Kinder
ORGANIZER;CN="DorfLeben e. V.":MAILTO:info@dorflebenev.de
END:VEVENT
BEGIN:VEVENT
DTSTART;TZID=UTC:20260514T100000
DTEND;TZID=UTC:20260514T110000
DTSTAMP:20260421T131120
CREATED:20260109T192450Z
LAST-MODIFIED:20260109T192450Z
UID:1195-1778752800-1778756400@helstorf.de
SUMMARY:Gottesdienst auf der Reiterheide
DESCRIPTION:
URL:https://helstorf.de/event/gottesdienst-auf-der-reiterheide/
CATEGORIES:Kirche,Kultur
END:VEVENT
BEGIN:VEVENT
DTSTART;TZID=UTC:20260514T110000
DTEND;TZID=UTC:20260514T170000
DTSTAMP:20260421T131120
CREATED:20260109T193129Z
LAST-MODIFIED:20260109T193129Z
UID:1197-1778756400-1778778000@helstorf.de
SUMMARY:Radtour der Vereine
DESCRIPTION:
URL:https://helstorf.de/event/radtour-der-vereine/
CATEGORIES:Dorfaktion,Sport
END:VEVENT
BEGIN:VEVENT
DTSTART;TZID=UTC:20260517T110000
DTEND;TZID=UTC:20260517T170000
DTSTAMP:20260421T131120
CREATED:20260109T193400Z
LAST-MODIFIED:20260109T193400Z
UID:1199-1779015600-1779037200@helstorf.de
SUMMARY:Flohmarkt mit Schmiedetag
DESCRIPTION:
URL:https://helstorf.de/event/flohmarkt-mit-schmiedetag/
LOCATION:Heimatverein Helstorf\, Walsroder Str. 16\, Neustadt-Helstorf\, 31535
CATEGORIES:Bildung,Dorfaktion,Kultur
END:VEVENT
BEGIN:VEVENT
DTSTART;TZID=UTC:20260522T170000
DTEND;TZID=UTC:20260522T190000
DTSTAMP:20260421T131120
CREATED:20260109T194223Z
LAST-MODIFIED:20260109T194223Z
UID:1201-1779469200-1779476400@helstorf.de
SUMMARY:Kinder- und Jugendkönig BSV
DESCRIPTION:
URL:https://helstorf.de/event/kinder-und-jugendkoenig-bsv/
LOCATION:BSV Helstorf\, Doktorweg\, Neustadt-Helstorf\, 31535
CATEGORIES:Kinder
ORGANIZER;CN="B%C3%BCrgersch%C3%BCtzenverein Helstorf e. V.":MAILTO:Info@bürgerschützenverein.de
END:VEVENT
BEGIN:VEVENT
DTSTART;TZID=UTC:20260529T140000
DTEND;TZID=UTC:20260529T170000
DTSTAMP:20260421T131120
CREATED:20260109T194633Z
LAST-MODIFIED:20260109T194633Z
UID:1205-1780063200-1780074000@helstorf.de
SUMMARY:König- und Pokalschießen BSV
DESCRIPTION:
URL:https://helstorf.de/event/koenig-und-pokalschiessen-bsv/
CATEGORIES:Sport
END:VEVENT
BEGIN:VEVENT
DTSTART;TZID=UTC:20260531T140000
DTEND;TZID=UTC:20260531T170000
DTSTAMP:20260421T131120
CREATED:20260109T194736Z
LAST-MODIFIED:20260109T194736Z
UID:1207-1780236000-1780246800@helstorf.de
SUMMARY:König- und Pokalschießen Runde 2
DESCRIPTION:
URL:https://helstorf.de/event/koenig-und-pokalschiessen-runde-2/
CATEGORIES:Sport
END:VEVENT
BEGIN:VEVENT
DTSTART;TZID=UTC:20260602T193000
DTEND;TZID=UTC:20260602T213000
DTSTAMP:20260421T131120
CREATED:20260320T202130Z
LAST-MODIFIED:20260320T202130Z
UID:1462-1780428600-1780435800@helstorf.de
SUMMARY:Spieleabend im Schützenhaus
DESCRIPTION:Spieleabend Doppelkopf im Schützenhaus. \nJeden Dienstag im Monat immer um 19:30 Uhr \n03.03.2026 \n07.04.2026 \n05.05.2026 \n02.06.2026 \nDoktorweg 31\, 31535 Neustadt \nMit Anmeldung unter 01731870790 bei Katharina Meyer oder unter 01732308139 Andreas Pagel.
URL:https://helstorf.de/event/spieleabend-im-schuetzenhaus-3/
CATEGORIES:Bildung,Dorfaktion,Gemeinwohl,Jugend,Veranstaltung
ORGANIZER;CN="B%C3%BCrgersch%C3%BCtzenverein Helstorf e. V.":MAILTO:Info@bürgerschützenverein.de
END:VEVENT
BEGIN:VEVENT
DTSTART;TZID=UTC:20260613T140000
DTEND;TZID=UTC:20260613T160000
DTSTAMP:20260421T131120
CREATED:20260320T204219Z
LAST-MODIFIED:20260320T204234Z
UID:1470-1781359200-1781366400@helstorf.de
SUMMARY:Dorfbücherei
DESCRIPTION:Am 2. Samstag im Monat öffnet die Dorfbücherei mit ehrenamtlichen Helfern vom DorfLeben e. V. von 14 – 16 Uhr.
URL:https://helstorf.de/event/dorfbuecherei-4/
LOCATION:Dorfbücherei\, Heidbraake 2\, 31535 Neustadt-Helstorf\, Niedersachsen\, 31535
CATEGORIES:Bildung,Gemeinwohl,Jugend
ORGANIZER;CN="DorfLeben e. V.":MAILTO:info@dorflebenev.de
END:VEVENT
BEGIN:VEVENT
DTSTART;TZID=UTC:20260613T210000
DTEND;TZID=UTC:20260614T010000
DTSTAMP:20260421T131120
CREATED:20251204T210714Z
LAST-MODIFIED:20251204T210714Z
UID:667-1781384400-1781398800@helstorf.de
SUMMARY:Schützenfest BSV Helstorf
DESCRIPTION:
URL:https://helstorf.de/event/schuetzenfest-bsv-helstorf/
END:VEVENT
BEGIN:VEVENT
DTSTART;TZID=UTC:20260614T120000
DTEND;TZID=UTC:20260614T140000
DTSTAMP:20260421T131120
CREATED:20260109T195015Z
LAST-MODIFIED:20260109T195015Z
UID:1209-1781438400-1781445600@helstorf.de
SUMMARY:Schützenfest
DESCRIPTION:
URL:https://helstorf.de/event/schuetzenfest/
CATEGORIES:Dorfaktion
END:VEVENT
BEGIN:VEVENT
DTSTART;TZID=UTC:20260614T140000
DTEND;TZID=UTC:20260614T160000
DTSTAMP:20260421T131120
CREATED:20260109T195135Z
LAST-MODIFIED:20260109T195135Z
UID:1211-1781445600-1781452800@helstorf.de
SUMMARY:Ausmarsch der Schützengesellschaft
DESCRIPTION:
URL:https://helstorf.de/event/ausmarsch-der-schuetzengesellschaft/
CATEGORIES:Dorfaktion
END:VEVENT
BEGIN:VEVENT
DTSTART;TZID=UTC:20260615T183000
DTEND;TZID=UTC:20260615T210000
DTSTAMP:20260421T131120
CREATED:20260109T195257Z
LAST-MODIFIED:20260109T195441Z
UID:1213-1781548200-1781557200@helstorf.de
SUMMARY:Schwarze Scheibe
DESCRIPTION:
URL:https://helstorf.de/event/schwarze-scheibe/
END:VEVENT
BEGIN:VEVENT
DTSTART;TZID=UTC:20260621T110000
DTEND;TZID=UTC:20260621T110000
DTSTAMP:20260421T131120
CREATED:20251204T203449Z
LAST-MODIFIED:20251204T203449Z
UID:663-1782039600-1782039600@helstorf.de
SUMMARY:Schmiedetag
DESCRIPTION:Zum Schmiedetag lädt der Heimat- und Museumsverein Helstorf für Sonntag\, 21. Juni 2026 \, ein. Von 11 bis 17 Uhr ist die historische Dorfschmiede an der Reiterheide geöffnet. Die Schmiede demonstriert ihr altes Handwerk\, in der benachbarten Museumsscheune wird an historischen Webstühlen gearbeitet\, und es gibt viele alte landwirtschaftliche Geräte und Maschinen aus dem vorigen Jahrhundert zu entdecken. Der Eintritt ist frei.\nFür die Besucher gibt es Kaffee und selbstgebackenen Kuchen sowie Bratwürste.
URL:https://helstorf.de/event/schmiedetag/
END:VEVENT
BEGIN:VEVENT
DTSTART;TZID=UTC:20260712T000000
DTEND;TZID=UTC:20260725T235959
DTSTAMP:20260421T131120
CREATED:20251204T210856Z
LAST-MODIFIED:20251204T210856Z
UID:669-1783814400-1785023999@helstorf.de
SUMMARY:Fußball - Stadtmeisterschaft 2026
DESCRIPTION:
URL:https://helstorf.de/event/fussball-stadtmeisterschaft-2026/
END:VEVENT
BEGIN:VEVENT
DTSTART;TZID=UTC:20260719T100000
DTEND;TZID=UTC:20260719T170000
DTSTAMP:20260421T131120
CREATED:20260109T195635Z
LAST-MODIFIED:20260109T195635Z
UID:1215-1784455200-1784480400@helstorf.de
SUMMARY:Schmiedetag mit Gottesdienst unter den Eichen (auf platt)
DESCRIPTION:
URL:https://helstorf.de/event/schmiedetag-mit-gottesdienst-unter-den-eichen-auf-platt/
LOCATION:Heimatverein Helstorf\, Walsroder Str. 16\, Neustadt-Helstorf\, 31535
CATEGORIES:Bildung,Dorfaktion,Kirche,Kultur
END:VEVENT
BEGIN:VEVENT
DTSTART;TZID=UTC:20260814T000000
DTEND;TZID=UTC:20260814T235959
DTSTAMP:20260421T131120
CREATED:20260109T200000Z
LAST-MODIFIED:20260109T200000Z
UID:1217-1786665600-1786751999@helstorf.de
SUMMARY:Brücke schmücken
DESCRIPTION:
URL:https://helstorf.de/event/bruecke-schmuecken/
CATEGORIES:Bildung,Dorfaktion,Kinder
ORGANIZER;CN="DorfLeben e. V.":MAILTO:info@dorflebenev.de
END:VEVENT
BEGIN:VEVENT
DTSTART;TZID=Europe/Berlin:20260815T100000
DTEND;TZID=Europe/Berlin:20260815T130000
DTSTAMP:20260421T131120
CREATED:20260109T202517Z
LAST-MODIFIED:20260109T202634Z
UID:1219-1786788000-1786798800@helstorf.de
SUMMARY:Einschulung der Grundschüler
DESCRIPTION:
URL:https://helstorf.de/event/einschulung-der-grundschueler/
CATEGORIES:Bildung,Dorfaktion,Kinder,Kirche
END:VEVENT
BEGIN:VEVENT
DTSTART;TZID=UTC:20260816T110000
DTEND;TZID=UTC:20260816T170000
DTSTAMP:20260421T131120
CREATED:20260109T202818Z
LAST-MODIFIED:20260109T202818Z
UID:1221-1786878000-1786899600@helstorf.de
SUMMARY:Schmiedetag
DESCRIPTION:
URL:https://helstorf.de/event/schmiedetag-3/
LOCATION:Heimatverein Helstorf\, Walsroder Str. 16\, Neustadt-Helstorf\, 31535
CATEGORIES:Bildung,Dorfaktion,Kultur
END:VEVENT
BEGIN:VEVENT
DTSTART;TZID=UTC:20260822T140000
DTEND;TZID=UTC:20260822T220000
DTSTAMP:20260421T131120
CREATED:20260109T202935Z
LAST-MODIFIED:20260109T202935Z
UID:1223-1787407200-1787436000@helstorf.de
SUMMARY:Sommerfest in Luttmersen
DESCRIPTION:
URL:https://helstorf.de/event/sommerfest-in-luttmersen/
CATEGORIES:Dorfaktion
END:VEVENT
BEGIN:VEVENT
DTSTART;TZID=UTC:20260913T080000
DTEND;TZID=UTC:20260913T180000
DTSTAMP:20260421T131120
CREATED:20260109T203338Z
LAST-MODIFIED:20260109T203338Z
UID:1227-1789286400-1789322400@helstorf.de
SUMMARY:Kommunalwahlen und Bürgermeister/-in-Wahlen
DESCRIPTION:
URL:https://helstorf.de/event/kommunalwahlen-und-buergermeister-in-wahlen/
CATEGORIES:Politik
END:VEVENT
BEGIN:VEVENT
DTSTART;TZID=UTC:20260920T110000
DTEND;TZID=UTC:20260920T170000
DTSTAMP:20260421T131120
CREATED:20260109T203055Z
LAST-MODIFIED:20260109T203055Z
UID:1225-1789902000-1789923600@helstorf.de
SUMMARY:Kartoffelfest
DESCRIPTION:
URL:https://helstorf.de/event/kartoffelfest/
LOCATION:Heimatverein Helstorf\, Walsroder Str. 16\, Neustadt-Helstorf\, 31535
CATEGORIES:Bildung,Dorfaktion,Kultur
END:VEVENT
BEGIN:VEVENT
DTSTART;TZID=UTC:20261004T100000
DTEND;TZID=UTC:20261004T130000
DTSTAMP:20260421T131120
CREATED:20260110T095515Z
LAST-MODIFIED:20260110T095515Z
UID:1233-1791108000-1791118800@helstorf.de
SUMMARY:Erntedankfest mit Gottesdienst auf einem Hof
DESCRIPTION:
URL:https://helstorf.de/event/erntedankfest-mit-gottesdienst-auf-einem-hof/
CATEGORIES:Kirche,Kultur
END:VEVENT
BEGIN:VEVENT
DTSTART;TZID=UTC:20261018T110000
DTEND;TZID=UTC:20261018T170000
DTSTAMP:20260421T131120
CREATED:20260109T210300Z
LAST-MODIFIED:20260109T210300Z
UID:1229-1792321200-1792342800@helstorf.de
SUMMARY:Schmiedetag
DESCRIPTION:
URL:https://helstorf.de/event/schmiedetag-4/
LOCATION:Heimatverein Helstorf\, Walsroder Str. 16\, Neustadt-Helstorf\, 31535
CATEGORIES:Bildung,Dorfaktion,Kinder,Kultur
END:VEVENT
BEGIN:VEVENT
DTSTART;TZID=UTC:20261023T180000
DTEND;TZID=UTC:20261023T210000
DTSTAMP:20260421T131120
CREATED:20260110T095848Z
LAST-MODIFIED:20260110T095848Z
UID:1237-1792778400-1792789200@helstorf.de
SUMMARY:Halloween Pokal Schießen Jugend BSV
DESCRIPTION:
URL:https://helstorf.de/event/halloween-pokal-schiessen-jugend-bsv/
CATEGORIES:Jugend,Kinder,Sport
ORGANIZER;CN="B%C3%BCrgersch%C3%BCtzenverein Helstorf e. V.":MAILTO:Info@bürgerschützenverein.de
END:VEVENT
END:VCALENDAR