BEGIN:VCALENDAR
VERSION:2.0
PRODID:-//Helstorf.de - ECPv6.15.20//NONSGML v1.0//EN
CALSCALE:GREGORIAN
METHOD:PUBLISH
X-ORIGINAL-URL:https://helstorf.de
X-WR-CALDESC:Veranstaltungen für Helstorf.de
REFRESH-INTERVAL;VALUE=DURATION:PT1H
X-Robots-Tag:noindex
X-PUBLISHED-TTL:PT1H
BEGIN:VTIMEZONE
TZID:UTC
BEGIN:STANDARD
TZOFFSETFROM:+0000
TZOFFSETTO:+0000
TZNAME:UTC
DTSTART:20240101T000000
END:STANDARD
END:VTIMEZONE
BEGIN:VEVENT
DTSTART;TZID=UTC:20260419T110000
DTEND;TZID=UTC:20260419T170000
DTSTAMP:20260421T143206
CREATED:20260108T205747Z
LAST-MODIFIED:20260414T194612Z
UID:1184-1776596400-1776618000@helstorf.de
SUMMARY:Schmiedetag
DESCRIPTION:Der Heimat- und Museumsverein eröffnet am Sonntag\, 19.04.2026 wieder die Saison der monatlich stattfindenden Schmiedetage. \nAn diesem Sonntag werden zusätzlich zum Kaffee- und Kuchenverkauf auch Forellen geräuchert und direkt vor Ort verkauft. Letztes Mal waren die Fische schnell ausverkauft. \nKommen Sie vorbei – nicht nur zum Essen: schauen Sie sich die Maschinenhalle mit historischen Landmaschinen\, die Museumsscheune und die Handwerkskunst an. \nWir freuen uns auf Sie! \nP.S. Bei Regen kann die Veranstaltungsdauer verkürzt werden.
URL:https://helstorf.de/event/schmiedetag-2/
LOCATION:Heimatverein Helstorf\, Walsroder Str. 16\, Neustadt-Helstorf\, 31535
CATEGORIES:Bildung,Dorfaktion,Kinder,Kultur
END:VEVENT
BEGIN:VEVENT
DTSTART;TZID=UTC:20260412T143000
DTEND;TZID=UTC:20260412T160000
DTSTAMP:20260421T143206
CREATED:20260413T084649Z
LAST-MODIFIED:20260413T084649Z
UID:1476-1776004200-1776009600@helstorf.de
SUMMARY:DorfWerkstatt
DESCRIPTION:Repariert werden Fahrräder \nNäharbeiten \n  \nKaffee und Kuchen\, Klönen und Zugucken
URL:https://helstorf.de/event/dorfwerkstatt/
LOCATION:BSV Helstorf\, Doktorweg\, Neustadt-Helstorf\, 31535
CATEGORIES:Dorfaktion,Gemeinwohl
ORGANIZER;CN="DorfLeben e. V.":MAILTO:info@dorflebenev.de
END:VEVENT
BEGIN:VEVENT
DTSTART;TZID=UTC:20260412T103000
DTEND;TZID=UTC:20260412T120000
DTSTAMP:20260421T143206
CREATED:20260413T085223Z
LAST-MODIFIED:20260413T085223Z
UID:1478-1775989800-1775995200@helstorf.de
SUMMARY:Sonntagsspaziergang / Frühlingserwachen
DESCRIPTION:Mach Dich mit uns auf eine spannende Spurensuche durch den Wald und die Heide! \nGemeinsam entdecken wir das Aufblühen der Natur\, hören Vogelstimmen von Buchfink\, Amsel und Lerche und beobachten Hummeln\, Bienen und Zitronenfalter. \n  \nTreffpunkt: Helstorf\, Zur Reiterheide (am Ende der Teststraße/Anfang der Heide) \nDauer ca. 1-1\,5 Std. \nmit Ulrike Karsch \nkostenlos / keine Anmeldung erforderlich
URL:https://helstorf.de/event/sonntagsspaziergang-fruehlingserwachen/
CATEGORIES:Bildung,Dorfaktion,Gemeinwohl,Kinder,Senioren
ORGANIZER;CN="DorfLeben e. V.":MAILTO:info@dorflebenev.de
END:VEVENT
BEGIN:VEVENT
DTSTART;TZID=UTC:20260411T140000
DTEND;TZID=UTC:20260411T160000
DTSTAMP:20260421T143206
CREATED:20260320T203448Z
LAST-MODIFIED:20260320T203448Z
UID:1466-1775916000-1775923200@helstorf.de
SUMMARY:Dorfbücherei
DESCRIPTION:Am 2. Samstag im Monat öffnet die Dorfbücherei mit ehrenamtlichen Helfern vom DorfLeben e. V. von 14 – 16 Uhr.
URL:https://helstorf.de/event/dorfbuecherei-2/
LOCATION:Dorfbücherei\, Heidbraake 2\, 31535 Neustadt-Helstorf\, Niedersachsen\, 31535
CATEGORIES:Bildung,Gemeinwohl,Jugend,Kinder
ORGANIZER;CN="DorfLeben e. V.":MAILTO:info@dorflebenev.de
END:VEVENT
BEGIN:VEVENT
DTSTART;TZID=UTC:20260407T193000
DTEND;TZID=UTC:20260407T213000
DTSTAMP:20260421T143206
CREATED:20260320T201816Z
LAST-MODIFIED:20260320T201816Z
UID:1458-1775590200-1775597400@helstorf.de
SUMMARY:Spieleabend im Schützenhaus
DESCRIPTION:Spieleabend Doppelkopf im Schützenhaus. \nJeden Dienstag im Monat immer um 19:30 Uhr \n03.03.2026 \n07.04.2026 \n05.05.2026 \n02.06.2026 \nDoktorweg 31\, 31535 Neustadt \nMit Anmeldung unter 01731870790 bei Katharina Meyer oder unter 01732308139 Andreas Pagel.
URL:https://helstorf.de/event/spieleabend-im-schuetzenhaus/
LOCATION:BSV Helstorf\, Doktorweg\, Neustadt-Helstorf\, 31535
CATEGORIES:Bildung,Dorfaktion,Gemeinwohl,Jugend
END:VEVENT
BEGIN:VEVENT
DTSTART;TZID=UTC:20260406T100000
DTEND;TZID=UTC:20260406T110000
DTSTAMP:20260421T143206
CREATED:20260108T205207Z
LAST-MODIFIED:20260108T205207Z
UID:1180-1775469600-1775473200@helstorf.de
SUMMARY:Trecker Gottesdienst
DESCRIPTION:
URL:https://helstorf.de/event/trecker-gottesdienst/
CATEGORIES:Dorfaktion,Kinder,Kirche,Kultur
END:VEVENT
BEGIN:VEVENT
DTSTART;TZID=UTC:20260405T183000
DTEND;TZID=UTC:20260405T220000
DTSTAMP:20260421T143206
CREATED:20260108T205014Z
LAST-MODIFIED:20260108T205014Z
UID:1178-1775413800-1775426400@helstorf.de
SUMMARY:Osterfeuer Luttmersen
DESCRIPTION:
URL:https://helstorf.de/event/osterfeuer-luttmersen/
CATEGORIES:Dorfaktion,Kinder
END:VEVENT
BEGIN:VEVENT
DTSTART;TZID=UTC:20260404T190000
DTEND;TZID=UTC:20260404T233000
DTSTAMP:20260421T143206
CREATED:20251118T213218Z
LAST-MODIFIED:20251118T213239Z
UID:543-1775329200-1775345400@helstorf.de
SUMMARY:Osterfeuer Helstorf
DESCRIPTION:
URL:https://helstorf.de/event/osterfeuer-helstorf/
END:VEVENT
BEGIN:VEVENT
DTSTART;TZID=UTC:20260320T143000
DTEND;TZID=UTC:20260320T153000
DTSTAMP:20260421T143206
CREATED:20260320T195731Z
LAST-MODIFIED:20260320T195731Z
UID:1453-1774017000-1774020600@helstorf.de
SUMMARY:Eiswagen kommt
DESCRIPTION:Der Frühling ist da. Und die Eissaison beginnt. Ein Eiswagen kommt ab sofort sonntags ab ca. 14:30 Uhr nach Helstorf. \nTrefft euch zum Klönen und Eis essen am ALDI-Parkplatz.
URL:https://helstorf.de/event/eiswagen-kommt/
CATEGORIES:Gemeinwohl,Jugend,Kinder,Veranstaltung,Versammlung
END:VEVENT
BEGIN:VEVENT
DTSTART;TZID=UTC:20260314T190000
DTEND;TZID=UTC:20260314T220000
DTSTAMP:20260421T143206
CREATED:20260108T203232Z
LAST-MODIFIED:20260108T203232Z
UID:1169-1773514800-1773525600@helstorf.de
SUMMARY:Jahreshauptversammlung Heimatverein
DESCRIPTION:
URL:https://helstorf.de/event/jahreshauptversammlung-heimatverein/
END:VEVENT
BEGIN:VEVENT
DTSTART;TZID=UTC:20260314T140000
DTEND;TZID=UTC:20260314T160000
DTSTAMP:20260421T143206
CREATED:20260320T202438Z
LAST-MODIFIED:20260320T202438Z
UID:1464-1773496800-1773504000@helstorf.de
SUMMARY:Dorfbücherei
DESCRIPTION:Am 2. Samstag im Monat öffnet die Dorfbücherei mit ehrenamtlichen Helfern vom DorfLeben e. V. von 14 – 16 Uhr.
URL:https://helstorf.de/event/dorfbuecherei/
CATEGORIES:Bildung,Dorfaktion,Gemeinwohl,Jugend,Kinder
ORGANIZER;CN="DorfLeben e. V.":MAILTO:info@dorflebenev.de
END:VEVENT
BEGIN:VEVENT
DTSTART;TZID=UTC:20260314T100000
DTEND;TZID=UTC:20260314T130000
DTSTAMP:20260421T143206
CREATED:20251118T211340Z
LAST-MODIFIED:20260108T204818Z
UID:541-1773482400-1773493200@helstorf.de
SUMMARY:"Rausputz" Luttmersen Müllsammelaktion im Dorf
DESCRIPTION:
URL:https://helstorf.de/event/rausputz-luttmersen-muellsammelaktion-im-dorf/
CATEGORIES:Dorfaktion,Kinder
END:VEVENT
BEGIN:VEVENT
DTSTART;TZID=UTC:20260314T100000
DTEND;TZID=UTC:20260314T120000
DTSTAMP:20260421T143206
CREATED:20251118T211220Z
LAST-MODIFIED:20260108T204720Z
UID:539-1773482400-1773489600@helstorf.de
SUMMARY:Sauberes Helstorf "Müllsammelaktion"
DESCRIPTION:
URL:https://helstorf.de/event/sauberes-helstorf-muellsammelaktion/
CATEGORIES:Dorfaktion,Kinder
END:VEVENT
BEGIN:VEVENT
DTSTART;TZID=UTC:20260303T183000
DTEND;TZID=UTC:20260303T213000
DTSTAMP:20260421T143206
CREATED:20260320T200450Z
LAST-MODIFIED:20260320T200450Z
UID:1455-1772562600-1772573400@helstorf.de
SUMMARY:Doppelkopf im Schützenhaus
DESCRIPTION:Spieleabend Doppelkopf im Schützenhaus. \nJeden Dienstag im Monat immer um 19:30 Uhr \n03.03.2026 \n07.04.2026 \n05.05.2026 \n02.06.2026 \nDoktorweg 31\, 31535 Neustadt \nMit Anmeldung unter 01731870790 bei Katharina Meyer oder unter 01732308139 Andreas Pagel.
URL:https://helstorf.de/event/doppelkopf-im-schuetzenhaus/
CATEGORIES:Bildung,Dorfaktion,Gemeinwohl,Jugend,Veranstaltung
ORGANIZER;CN="B%C3%BCrgersch%C3%BCtzenverein Helstorf e. V.":MAILTO:Info@bürgerschützenverein.de
END:VEVENT
BEGIN:VEVENT
DTSTART;TZID=UTC:20260221T180000
DTEND;TZID=UTC:20260221T220000
DTSTAMP:20260421T143206
CREATED:20251118T211101Z
LAST-MODIFIED:20251118T213415Z
UID:537-1771696800-1771711200@helstorf.de
SUMMARY:Jahreshauptversammlung BSV
DESCRIPTION:
URL:https://helstorf.de/event/jahreshauptversammlung-bsv/
END:VEVENT
BEGIN:VEVENT
DTSTART;TZID=UTC:20260211T190000
DTEND;TZID=UTC:20260211T210000
DTSTAMP:20260421T143206
CREATED:20251223T212337Z
LAST-MODIFIED:20251223T212337Z
UID:689-1770836400-1770843600@helstorf.de
SUMMARY:Autorenlesung: Annette Hess liest aus ihrem Roman "Deutsches Haus"
DESCRIPTION:Aus Helstorf in die große Fernsehgeschichte: Die Autorin der Erfolgsserien „Weissensee“ und „Ku’damm 56“ liest aus ihrem Roman „Deutsches Haus“. \nDie Lesung wird organisiert von DorfLeben e. V. und findet am Mittwoch\, 11.02.2026 um 19 Uhr im Gemeindehaus Helstorf\, Brückenstraße 13 statt. Kartenbestellung erfolgt unter anmelden@dorflebenev.de. \nDer Eintritt kostet 10 EUR bei freier Sitzplatzwahl.
URL:https://helstorf.de/event/autorenlesung-annette-hess-liest-aus-ihrem-roman-deutsches-haus/
LOCATION:Gemeindehaus Helstorf\, Brückenstraße 13\, Neustadt\, 31535\, Germany
CATEGORIES:Kultur
ORGANIZER;CN="DorfLeben e. V.":MAILTO:info@dorflebenev.de
END:VEVENT
BEGIN:VEVENT
DTSTART;TZID=UTC:20260207T200000
DTEND;TZID=UTC:20260207T233000
DTSTAMP:20260421T143206
CREATED:20251118T210846Z
LAST-MODIFIED:20260108T202851Z
UID:535-1770494400-1770507000@helstorf.de
SUMMARY:Ladiesnight vom BSV
DESCRIPTION:
URL:https://helstorf.de/event/ladiesnight-vom-bsv/
END:VEVENT
BEGIN:VEVENT
DTSTART;TZID=UTC:20260203T080000
DTEND;TZID=UTC:20260203T120000
DTSTAMP:20260421T143206
CREATED:20251204T211149Z
LAST-MODIFIED:20251204T212046Z
UID:672-1770105600-1770120000@helstorf.de
SUMMARY:Gemeindefrühstück
DESCRIPTION:Jeden ersten Dienstag im Monat treffen wir uns von 9-11 Uhr zum gemütlichen Frühstücken. Nach dem Essen runden gemeinsame Lieder\, Geschichten und Anekdoten den Vormittag ab. Auf Ihr Kommen freut sich Ruth Meier mit ihren fleißigen Helferinnen. Tel.: 7133
URL:https://helstorf.de/event/gemeindefruehstueck-2/
END:VEVENT
BEGIN:VEVENT
DTSTART;TZID=UTC:20260118T110000
DTEND;TZID=UTC:20260118T140000
DTSTAMP:20260421T143206
CREATED:20251118T210652Z
LAST-MODIFIED:20251118T213500Z
UID:533-1768734000-1768744800@helstorf.de
SUMMARY:Neujahrsempfang der Vereine
DESCRIPTION:
URL:https://helstorf.de/event/neujahrsempfang-der-vereine/
END:VEVENT
BEGIN:VEVENT
DTSTART;TZID=UTC:20260110T141500
DTEND;TZID=UTC:20260110T150000
DTSTAMP:20260421T143206
CREATED:20260108T204054Z
LAST-MODIFIED:20260108T204054Z
UID:1171-1768054500-1768057200@helstorf.de
SUMMARY:Bilderbuchkino Dorfbücherei
DESCRIPTION:Am Samstag öffnet wieder die Dorfbücherei mit neuen Öffnungszeiten 14-16 Uhr und es gibt um 14:15 Uhr ein Bilderbuchkino: \nWir lesen aus „Die kleine Hexe – Winterzauber mit Abraxas“ von Ottfried Preussler
URL:https://helstorf.de/event/bilderbuchkino-dorfbuecherei/
LOCATION:Dorfbücherei\, Heidbraake 2\, 31535 Neustadt-Helstorf\, Niedersachsen\, 31535
CATEGORIES:Kinder,Kultur,Lesung
ORGANIZER;CN="DorfLeben e. V.":MAILTO:info@dorflebenev.de
END:VEVENT
BEGIN:VEVENT
DTSTART;TZID=UTC:20260110T140000
DTEND;TZID=UTC:20260110T160000
DTSTAMP:20260421T143206
CREATED:20260108T204455Z
LAST-MODIFIED:20260108T204551Z
UID:1175-1768053600-1768060800@helstorf.de
SUMMARY:Dorfbücherei Helstorf
DESCRIPTION:Am 2. Samstag im Monat öffnet die Dorfbücherei mit ehrenamtlichen Helfern vom DorfLeben e. V. von 14 – 16 Uhr.
URL:https://helstorf.de/event/dorfbuecherei-helstorf/
LOCATION:Dorfbücherei\, Heidbraake 2\, 31535 Neustadt-Helstorf\, Niedersachsen\, 31535
CATEGORIES:Bildung,Kinder,Kultur
ORGANIZER;CN="DorfLeben e. V.":MAILTO:info@dorflebenev.de
END:VEVENT
BEGIN:VEVENT
DTSTART;TZID=UTC:20260106T090000
DTEND;TZID=UTC:20260106T230000
DTSTAMP:20260421T143206
CREATED:20251118T205602Z
LAST-MODIFIED:20251204T211039Z
UID:528-1767690000-1767740400@helstorf.de
SUMMARY:Gemeindefrühstück
DESCRIPTION:Jeden ersten Dienstag im Monat treffen wir uns von 9-11 Uhr zum gemütlichen Frühstücken. Nach dem Essen runden gemeinsame Lieder\, Geschichten und Anekdoten den Vormittag ab. Auf Ihr Kommen freut sich Ruth Meier mit ihren fleißigen Helferinnen. Tel.: 7133
URL:https://helstorf.de/event/gemeindefruehstueck/
LOCATION:Gemeindehaus Helstorf\, Brückenstraße 13\, Neustadt\, 31535\, Germany
END:VEVENT
BEGIN:VEVENT
DTSTART;TZID=UTC:20251229T190000
DTEND;TZID=UTC:20251229T233000
DTSTAMP:20260421T143206
CREATED:20251110T194946Z
LAST-MODIFIED:20251110T194946Z
UID:524-1767034800-1767051000@helstorf.de
SUMMARY:Herrenabend
DESCRIPTION:
URL:https://helstorf.de/event/herrenabend/
END:VEVENT
BEGIN:VEVENT
DTSTART;TZID=UTC:20251122T110000
DTEND;TZID=UTC:20251122T130000
DTSTAMP:20260421T143206
CREATED:20251119T093159Z
LAST-MODIFIED:20251119T093421Z
UID:546-1763809200-1763816400@helstorf.de
SUMMARY:Kreativwerkstatt
DESCRIPTION:Heute machen wir aus Kerzenresten neue Kerzen im Glas oder Formen. Außerdem werden weiße Stabkerzen gefärbt und bunt angemalt.
URL:https://helstorf.de/event/kreativwerkstatt/
LOCATION:Kreativwerkstatt Helstorf\, Heidbraake 2\, Helstorf\, 31535
ORGANIZER;CN="DorfLeben e. V.":MAILTO:info@dorflebenev.de
END:VEVENT
END:VCALENDAR