BEGIN:VCALENDAR
VERSION:2.0
PRODID:-//Helstorf.de - ECPv6.15.20//NONSGML v1.0//EN
CALSCALE:GREGORIAN
METHOD:PUBLISH
X-ORIGINAL-URL:https://helstorf.de
X-WR-CALDESC:Veranstaltungen für Helstorf.de
REFRESH-INTERVAL;VALUE=DURATION:PT1H
X-Robots-Tag:noindex
X-PUBLISHED-TTL:PT1H
BEGIN:VTIMEZONE
TZID:UTC
BEGIN:STANDARD
TZOFFSETFROM:+0000
TZOFFSETTO:+0000
TZNAME:UTC
DTSTART:20250101T000000
END:STANDARD
END:VTIMEZONE
BEGIN:VEVENT
DTSTART;TZID=UTC:20260501T110000
DTEND;TZID=UTC:20260501T150000
DTSTAMP:20260421T142551
CREATED:20260108T210404Z
LAST-MODIFIED:20260108T210404Z
UID:1188-1777633200-1777647600@helstorf.de
SUMMARY:1. Mai - Feier (Maibaum aufstellen)
DESCRIPTION:
URL:https://helstorf.de/event/1-mai-feier-maibaum-aufstellen/
LOCATION:SVG Helstorf e. V.\, Walsroder Straße 19\, Neustadt-Helstorf\, 31535
CATEGORIES:Dorfaktion,Kinder,Sport
END:VEVENT
END:VCALENDAR