BEGIN:VCALENDAR
VERSION:2.0
PRODID:-//Helstorf.de - ECPv6.15.20//NONSGML v1.0//EN
CALSCALE:GREGORIAN
METHOD:PUBLISH
X-ORIGINAL-URL:https://helstorf.de
X-WR-CALDESC:Veranstaltungen für Helstorf.de
REFRESH-INTERVAL;VALUE=DURATION:PT1H
X-Robots-Tag:noindex
X-PUBLISHED-TTL:PT1H
BEGIN:VTIMEZONE
TZID:UTC
BEGIN:STANDARD
TZOFFSETFROM:+0000
TZOFFSETTO:+0000
TZNAME:UTC
DTSTART:20250101T000000
END:STANDARD
END:VTIMEZONE
BEGIN:VEVENT
DTSTART;TZID=UTC:20260419T110000
DTEND;TZID=UTC:20260419T170000
DTSTAMP:20260423T101503
CREATED:20260108T205747Z
LAST-MODIFIED:20260414T194612Z
UID:1184-1776596400-1776618000@helstorf.de
SUMMARY:Schmiedetag
DESCRIPTION:Der Heimat- und Museumsverein eröffnet am Sonntag\, 19.04.2026 wieder die Saison der monatlich stattfindenden Schmiedetage. \nAn diesem Sonntag werden zusätzlich zum Kaffee- und Kuchenverkauf auch Forellen geräuchert und direkt vor Ort verkauft. Letztes Mal waren die Fische schnell ausverkauft. \nKommen Sie vorbei – nicht nur zum Essen: schauen Sie sich die Maschinenhalle mit historischen Landmaschinen\, die Museumsscheune und die Handwerkskunst an. \nWir freuen uns auf Sie! \nP.S. Bei Regen kann die Veranstaltungsdauer verkürzt werden.
URL:https://helstorf.de/event/schmiedetag-2/
LOCATION:Heimatverein Helstorf\, Walsroder Str. 16\, Neustadt-Helstorf\, 31535
CATEGORIES:Bildung,Dorfaktion,Kinder,Kultur
END:VEVENT
END:VCALENDAR